BEGIN:VCALENDAR
VERSION:2.0
PRODID:-//ExpressionEngine Easy iCalendar plugin//NONSGML v2.0.1//EN
X-WR-TIMEZONE:America/Chicago
X-WR-CALNAME:Upcoming Auctions
BEGIN:VEVENT
UID:160994
DTSTAMP:20260507T180000
DTSTART:20260507T180000
DTEND:20260520T180000
SUMMARY:MAY CONSIGNMENT AUCTION
LOCATION:W6033 Business 26\, Jefferson\, WI 53549\, US
DESCRIPTION:May Timed/Only-ONLY Auction
URL:https://www.stadeauction.com/auctions/detail/bw160994
SEQUENCE:1
END:VEVENT
END:VCALENDAR